Package: DMRcaller Version: 1.36.0 Command: /home/biocbuild/bbs-3.19-bioc/R/bin/R CMD INSTALL DMRcaller StartedAt: 2024-10-16 15:54:30 -0400 (Wed, 16 Oct 2024) EndedAt: 2024-10-16 15:54:43 -0400 (Wed, 16 Oct 2024) EllapsedTime: 12.8 seconds RetCode: 0 Status: OK