Package: DMRcaller Version: 1.36.0 Command: /home/biocbuild/R/R-beta-2024-04-15_r86425/bin/R CMD check --install=check:DMRcaller.install-out.txt --library=/home/biocbuild/R/R-beta-2024-04-15_r86425/site-library --no-vignettes --timings DMRcaller_1.36.0.tar.gz StartedAt: 2024-05-09 06:53:30 -0000 (Thu, 09 May 2024) EndedAt: 2024-05-09 06:58:43 -0000 (Thu, 09 May 2024) EllapsedTime: 312.6 seconds RetCode: 0 Status: OK CheckDir: DMRcaller.Rcheck Warnings: 0