Package: DMRcaller Version: 1.36.0 Command: /home/biocbuild/R/R-beta-2024-04-15_r86425/bin/R CMD build --keep-empty-dirs --no-resave-data DMRcaller StartedAt: 2024-05-08 23:57:38 -0000 (Wed, 08 May 2024) EndedAt: 2024-05-08 23:59:20 -0000 (Wed, 08 May 2024) EllapsedTime: 102.1 seconds RetCode: 0 Status: OK PackageFile: DMRcaller_1.36.0.tar.gz PackageFileSize: 1.622 MiB