Package: DMRcaller Version: 1.36.0 Command: /Library/Frameworks/R.framework/Resources/bin/R CMD check --install=check:DMRcaller.install-out.txt --library=/Library/Frameworks/R.framework/Resources/library --no-vignettes --timings DMRcaller_1.36.0.tar.gz StartedAt: 2024-10-17 19:56:25 -0400 (Thu, 17 Oct 2024) EndedAt: 2024-10-17 20:01:45 -0400 (Thu, 17 Oct 2024) EllapsedTime: 320.4 seconds RetCode: 0 Status: OK CheckDir: DMRcaller.Rcheck Warnings: 0