Package: DMRScan Version: 1.26.0 Command: chmod a+r DMRScan -R && E:\biocbuild\bbs-3.19-bioc\R\bin\R.exe CMD build --keep-empty-dirs --no-resave-data DMRScan StartedAt: 2024-10-16 18:45:07 -0400 (Wed, 16 Oct 2024) EndedAt: 2024-10-16 18:46:54 -0400 (Wed, 16 Oct 2024) EllapsedTime: 107.8 seconds RetCode: 0 Status: OK PackageFile: DMRScan_1.26.0.tar.gz PackageFileSize: 3.347 MiB