Package: DMRScan Version: 1.26.0 Command: rm -rf DMRScan.buildbin-libdir && mkdir DMRScan.buildbin-libdir && E:\biocbuild\bbs-3.19-bioc\R\bin\R.exe CMD INSTALL --build --library=DMRScan.buildbin-libdir DMRScan_1.26.0.tar.gz StartedAt: 2024-10-17 07:42:32 -0400 (Thu, 17 Oct 2024) EndedAt: 2024-10-17 07:42:54 -0400 (Thu, 17 Oct 2024) EllapsedTime: 22.6 seconds RetCode: 0 Status: OK PackageFile: DMRScan_1.26.0.zip PackageFileSize: 5.081 MiB