Package: DMRScan Version: 1.26.0 Command: /Library/Frameworks/R.framework/Resources/bin/R CMD build --keep-empty-dirs --no-resave-data DMRScan StartedAt: 2024-10-16 23:29:29 -0400 (Wed, 16 Oct 2024) EndedAt: 2024-10-16 23:30:55 -0400 (Wed, 16 Oct 2024) EllapsedTime: 85.9 seconds RetCode: 1 Status: ERROR PackageFile: None PackageFileSize: NA