Package: DMCHMM Version: 1.26.0 Command: /home/biocbuild/bbs-3.19-bioc/R/bin/R CMD check --install=check:DMCHMM.install-out.txt --library=/home/biocbuild/bbs-3.19-bioc/R/site-library --timings DMCHMM_1.26.0.tar.gz StartedAt: 2024-10-16 23:53:21 -0400 (Wed, 16 Oct 2024) EndedAt: 2024-10-17 00:00:55 -0400 (Thu, 17 Oct 2024) EllapsedTime: 453.9 seconds RetCode: 0 Status: OK CheckDir: DMCHMM.Rcheck Warnings: 0