Package: DMCHMM Version: 1.26.0 Command: rm -rf DMCHMM.buildbin-libdir && mkdir DMCHMM.buildbin-libdir && /Users/biocbuild/BBS/utils/build-universal.sh DMCHMM_1.26.0.tar.gz /Library/Frameworks/R.framework/Resources/bin/R DMCHMM.buildbin-libdir StartedAt: 2024-10-18 18:14:01 -0400 (Fri, 18 Oct 2024) EndedAt: 2024-10-18 18:14:50 -0400 (Fri, 18 Oct 2024) EllapsedTime: 49.1 seconds RetCode: 0 Status: OK PackageFile: DMCHMM_1.26.0.tgz PackageFileSize: 964.7 KiB