Package: DMCFB Version: 1.18.0 Command: F:\biocbuild\bbs-3.19-bioc\R\bin\R.exe CMD INSTALL DMCFB StartedAt: 2024-06-26 16:04:03 -0400 (Wed, 26 Jun 2024) EndedAt: 2024-06-26 16:04:55 -0400 (Wed, 26 Jun 2024) EllapsedTime: 51.4 seconds RetCode: 0 Status: OK