Package: DMCFB Version: 1.18.0 Command: chmod a+r DMCFB -R && F:\biocbuild\bbs-3.19-bioc\R\bin\R.exe CMD build --keep-empty-dirs --no-resave-data DMCFB StartedAt: 2024-06-26 18:27:51 -0400 (Wed, 26 Jun 2024) EndedAt: 2024-06-26 18:29:02 -0400 (Wed, 26 Jun 2024) EllapsedTime: 71.0 seconds RetCode: 0 Status: OK PackageFile: DMCFB_1.18.0.tar.gz PackageFileSize: 971 KiB