Package: DMCFB Version: 1.18.0 Command: rm -rf DMCFB.buildbin-libdir && mkdir DMCFB.buildbin-libdir && /Users/biocbuild/BBS/utils/build-universal.sh DMCFB_1.18.0.tar.gz /Library/Frameworks/R.framework/Resources/bin/R DMCFB.buildbin-libdir StartedAt: 2024-10-18 18:13:59 -0400 (Fri, 18 Oct 2024) EndedAt: 2024-10-18 18:14:53 -0400 (Fri, 18 Oct 2024) EllapsedTime: 53.8 seconds RetCode: 0 Status: OK PackageFile: DMCFB_1.18.0.tgz PackageFileSize: 1.209 MiB