Package: DIAlignR Version: 2.12.0 Command: E:\biocbuild\bbs-3.19-bioc\R\bin\R.exe CMD INSTALL DIAlignR StartedAt: 2024-10-16 16:34:55 -0400 (Wed, 16 Oct 2024) EndedAt: 2024-10-16 16:36:48 -0400 (Wed, 16 Oct 2024) EllapsedTime: 113.1 seconds RetCode: 0 Status: OK