Package: DIAlignR Version: 2.12.0 Command: E:\biocbuild\bbs-3.19-bioc\R\bin\R.exe CMD check --no-multiarch --install=check:DIAlignR.install-out.txt --library=E:\biocbuild\bbs-3.19-bioc\R\library --no-vignettes --timings DIAlignR_2.12.0.tar.gz StartedAt: 2024-10-17 00:51:02 -0400 (Thu, 17 Oct 2024) EndedAt: 2024-10-17 00:54:55 -0400 (Thu, 17 Oct 2024) EllapsedTime: 232.3 seconds RetCode: 1 Status: ERROR CheckDir: DIAlignR.Rcheck Warnings: NA