Package: DIAlignR Version: 2.12.0 Command: rm -rf DIAlignR.buildbin-libdir && mkdir DIAlignR.buildbin-libdir && E:\biocbuild\bbs-3.19-bioc\R\bin\R.exe CMD INSTALL --build --library=DIAlignR.buildbin-libdir DIAlignR_2.12.0.tar.gz StartedAt: 2024-10-17 07:41:32 -0400 (Thu, 17 Oct 2024) EndedAt: 2024-10-17 07:43:16 -0400 (Thu, 17 Oct 2024) EllapsedTime: 103.3 seconds RetCode: 0 Status: OK PackageFile: DIAlignR_2.12.0.zip PackageFileSize: 4.788 MiB