Package: DIAlignR Version: 2.12.0 Command: /home/biocbuild/bbs-3.19-bioc/R/bin/R CMD check --install=check:DIAlignR.install-out.txt --library=/home/biocbuild/bbs-3.19-bioc/R/site-library --timings DIAlignR_2.12.0.tar.gz StartedAt: 2024-10-16 23:47:45 -0400 (Wed, 16 Oct 2024) EndedAt: 2024-10-16 23:50:54 -0400 (Wed, 16 Oct 2024) EllapsedTime: 189.3 seconds RetCode: 1 Status: ERROR CheckDir: DIAlignR.Rcheck Warnings: NA