Package: DIAlignR Version: 2.12.0 Command: /home/biocbuild/bbs-3.19-bioc/R/bin/R CMD build --keep-empty-dirs --no-resave-data DIAlignR StartedAt: 2024-10-16 18:12:30 -0400 (Wed, 16 Oct 2024) EndedAt: 2024-10-16 18:13:46 -0400 (Wed, 16 Oct 2024) EllapsedTime: 76.1 seconds RetCode: 0 Status: OK PackageFile: DIAlignR_2.12.0.tar.gz PackageFileSize: 4.218 MiB