Package: DFP Version: 1.62.0 Command: /home/biocbuild/bbs-3.19-bioc/R/bin/R CMD check --install=check:DFP.install-out.txt --library=/home/biocbuild/bbs-3.19-bioc/R/site-library --timings DFP_1.62.0.tar.gz StartedAt: 2024-10-16 23:47:34 -0400 (Wed, 16 Oct 2024) EndedAt: 2024-10-16 23:48:06 -0400 (Wed, 16 Oct 2024) EllapsedTime: 32.1 seconds RetCode: 0 Status: OK CheckDir: DFP.Rcheck Warnings: 0