Package: DFP Version: 1.62.0 Command: rm -rf DFP.buildbin-libdir && mkdir DFP.buildbin-libdir && /Users/biocbuild/BBS/utils/build-universal.sh DFP_1.62.0.tar.gz /Library/Frameworks/R.framework/Resources/bin/R DFP.buildbin-libdir StartedAt: 2024-10-17 16:01:35 -0400 (Thu, 17 Oct 2024) EndedAt: 2024-10-17 16:01:46 -0400 (Thu, 17 Oct 2024) EllapsedTime: 11.8 seconds RetCode: 0 Status: OK PackageFile: DFP_1.62.0.tgz PackageFileSize: 698.5 KiB