Package: DFP Version: 1.62.0 Command: /home/biocbuild/R/R-beta-2024-04-15_r86425/bin/R CMD check --install=check:DFP.install-out.txt --library=/home/biocbuild/R/R-beta-2024-04-15_r86425/site-library --no-vignettes --timings DFP_1.62.0.tar.gz StartedAt: 2024-05-09 06:46:23 -0000 (Thu, 09 May 2024) EndedAt: 2024-05-09 06:46:56 -0000 (Thu, 09 May 2024) EllapsedTime: 33.0 seconds RetCode: 0 Status: OK CheckDir: DFP.Rcheck Warnings: 0