Package: DExMA Version: 1.12.0 Command: rm -rf DExMA.buildbin-libdir && mkdir DExMA.buildbin-libdir && E:\biocbuild\bbs-3.19-bioc\R\bin\R.exe CMD INSTALL --build --library=DExMA.buildbin-libdir DExMA_1.12.0.tar.gz StartedAt: 2024-10-17 07:41:19 -0400 (Thu, 17 Oct 2024) EndedAt: 2024-10-17 07:41:52 -0400 (Thu, 17 Oct 2024) EllapsedTime: 33.0 seconds RetCode: 0 Status: OK PackageFile: DExMA_1.12.0.zip PackageFileSize: 411.7 KiB