Package: DExMA Version: 1.12.0 Command: chmod a+r DExMA -R && F:\biocbuild\bbs-3.19-bioc\R\bin\R.exe CMD build --keep-empty-dirs --no-resave-data DExMA StartedAt: 2024-06-26 18:22:51 -0400 (Wed, 26 Jun 2024) EndedAt: 2024-06-26 18:23:45 -0400 (Wed, 26 Jun 2024) EllapsedTime: 54.1 seconds RetCode: 0 Status: OK PackageFile: DExMA_1.12.0.tar.gz PackageFileSize: 318.5 KiB