Package: DExMA Version: 1.12.0 Command: /Library/Frameworks/R.framework/Resources/bin/R CMD INSTALL DExMA StartedAt: 2024-10-16 16:27:12 -0400 (Wed, 16 Oct 2024) EndedAt: 2024-10-16 16:28:07 -0400 (Wed, 16 Oct 2024) EllapsedTime: 55.0 seconds RetCode: 0 Status: OK