Package: DEsubs Version: 1.30.0 Command: E:\biocbuild\bbs-3.19-bioc\R\bin\R.exe CMD INSTALL DEsubs StartedAt: 2024-10-16 16:53:51 -0400 (Wed, 16 Oct 2024) EndedAt: 2024-10-16 16:54:25 -0400 (Wed, 16 Oct 2024) EllapsedTime: 34.4 seconds RetCode: 0 Status: OK