Package: DEsubs Version: 1.30.0 Command: chmod a+r DEsubs -R && E:\biocbuild\bbs-3.19-bioc\R\bin\R.exe CMD build --keep-empty-dirs --no-resave-data DEsubs StartedAt: 2024-10-16 18:41:09 -0400 (Wed, 16 Oct 2024) EndedAt: 2024-10-16 18:42:34 -0400 (Wed, 16 Oct 2024) EllapsedTime: 84.9 seconds RetCode: 0 Status: OK PackageFile: DEsubs_1.30.0.tar.gz PackageFileSize: 3.974 MiB