Package: DEsubs Version: 1.30.0 Command: rm -rf DEsubs.buildbin-libdir && mkdir DEsubs.buildbin-libdir && E:\biocbuild\bbs-3.19-bioc\R\bin\R.exe CMD INSTALL --build --library=DEsubs.buildbin-libdir DEsubs_1.30.0.tar.gz StartedAt: 2024-10-17 07:41:13 -0400 (Thu, 17 Oct 2024) EndedAt: 2024-10-17 07:41:47 -0400 (Thu, 17 Oct 2024) EllapsedTime: 34.0 seconds RetCode: 0 Status: OK PackageFile: DEsubs_1.30.0.zip PackageFileSize: 3.752 MiB