Package: DEsubs Version: 1.30.0 Command: rm -rf DEsubs.buildbin-libdir && mkdir DEsubs.buildbin-libdir && F:\biocbuild\bbs-3.19-bioc\R\bin\R.exe CMD INSTALL --build --library=DEsubs.buildbin-libdir DEsubs_1.30.0.tar.gz StartedAt: 2024-06-27 08:07:03 -0400 (Thu, 27 Jun 2024) EndedAt: 2024-06-27 08:07:45 -0400 (Thu, 27 Jun 2024) EllapsedTime: 41.6 seconds RetCode: 0 Status: OK PackageFile: DEsubs_1.30.0.zip PackageFileSize: 3.751 MiB