Package: DEsubs Version: 1.30.0 Command: /Library/Frameworks/R.framework/Resources/bin/R CMD INSTALL DEsubs StartedAt: 2024-10-16 16:12:41 -0400 (Wed, 16 Oct 2024) EndedAt: 2024-10-16 16:13:44 -0400 (Wed, 16 Oct 2024) EllapsedTime: 62.7 seconds RetCode: 0 Status: OK