Package: DEsubs Version: 1.30.0 Command: rm -rf DEsubs.buildbin-libdir && mkdir DEsubs.buildbin-libdir && /Users/biocbuild/BBS/utils/build-universal.sh DEsubs_1.30.0.tar.gz /Library/Frameworks/R.framework/Resources/bin/R DEsubs.buildbin-libdir StartedAt: 2024-10-17 16:01:24 -0400 (Thu, 17 Oct 2024) EndedAt: 2024-10-17 16:02:34 -0400 (Thu, 17 Oct 2024) EllapsedTime: 70.1 seconds RetCode: 0 Status: OK PackageFile: DEsubs_1.30.0.tgz PackageFileSize: 3.744 MiB