Package: DEsubs Version: 1.30.0 Command: /Library/Frameworks/R.framework/Resources/bin/R CMD check --install=check:DEsubs.install-out.txt --library=/Library/Frameworks/R.framework/Resources/library --no-vignettes --timings DEsubs_1.30.0.tar.gz StartedAt: 2024-06-09 19:58:39 -0400 (Sun, 09 Jun 2024) EndedAt: 2024-06-09 20:02:29 -0400 (Sun, 09 Jun 2024) EllapsedTime: 230.0 seconds RetCode: 0 Status: WARNINGS CheckDir: DEsubs.Rcheck Warnings: 1