Package: DEsubs Version: 1.30.0 Command: /Library/Frameworks/R.framework/Resources/bin/R CMD check --install=check:DEsubs.install-out.txt --library=/Library/Frameworks/R.framework/Resources/library --no-vignettes --timings DEsubs_1.30.0.tar.gz StartedAt: 2024-06-10 13:40:31 -0400 (Mon, 10 Jun 2024) EndedAt: 2024-06-10 13:46:58 -0400 (Mon, 10 Jun 2024) EllapsedTime: 386.6 seconds RetCode: 0 Status: WARNINGS CheckDir: DEsubs.Rcheck Warnings: 1