Package: DEsubs Version: 1.30.0 Command: /Library/Frameworks/R.framework/Resources/bin/R CMD INSTALL DEsubs StartedAt: 2024-10-16 17:42:45 -0400 (Wed, 16 Oct 2024) EndedAt: 2024-10-16 17:43:18 -0400 (Wed, 16 Oct 2024) EllapsedTime: 32.6 seconds RetCode: 0 Status: OK