Package: DEsingle Version: 1.24.0 Command: /Library/Frameworks/R.framework/Resources/bin/R CMD INSTALL DEsingle StartedAt: 2024-10-16 18:03:38 -0400 (Wed, 16 Oct 2024) EndedAt: 2024-10-16 18:03:48 -0400 (Wed, 16 Oct 2024) EllapsedTime: 9.2 seconds RetCode: 0 Status: OK