Package: DEqMS Version: 1.22.0 Command: /home/biocbuild/R/R-beta-2024-04-15_r86425/bin/R CMD check --install=check:DEqMS.install-out.txt --library=/home/biocbuild/R/R-beta-2024-04-15_r86425/site-library --no-vignettes --timings DEqMS_1.22.0.tar.gz StartedAt: 2024-05-09 06:43:54 -0000 (Thu, 09 May 2024) EndedAt: 2024-05-09 06:48:07 -0000 (Thu, 09 May 2024) EllapsedTime: 253.5 seconds RetCode: 0 Status: OK CheckDir: DEqMS.Rcheck Warnings: 0