Package: DEXSeq Version: 1.50.0 Command: E:\biocbuild\bbs-3.19-bioc\R\bin\R.exe CMD check --no-multiarch --install=check:DEXSeq.install-out.txt --library=E:\biocbuild\bbs-3.19-bioc\R\library --no-vignettes --timings DEXSeq_1.50.0.tar.gz StartedAt: 2024-10-17 00:49:54 -0400 (Thu, 17 Oct 2024) EndedAt: 2024-10-17 00:55:41 -0400 (Thu, 17 Oct 2024) EllapsedTime: 347.1 seconds RetCode: 0 Status: OK CheckDir: DEXSeq.Rcheck Warnings: 0