Package: DEXSeq Version: 1.50.0 Command: chmod a+r DEXSeq -R && E:\biocbuild\bbs-3.19-bioc\R\bin\R.exe CMD build --keep-empty-dirs --no-resave-data DEXSeq StartedAt: 2024-10-16 18:41:34 -0400 (Wed, 16 Oct 2024) EndedAt: 2024-10-16 18:44:22 -0400 (Wed, 16 Oct 2024) EllapsedTime: 168.4 seconds RetCode: 0 Status: OK PackageFile: DEXSeq_1.50.0.tar.gz PackageFileSize: 581.9 KiB