Package: DEXSeq Version: 1.50.0 Command: /home/biocbuild/bbs-3.19-bioc/R/bin/R CMD INSTALL DEXSeq StartedAt: 2024-10-16 16:34:16 -0400 (Wed, 16 Oct 2024) EndedAt: 2024-10-16 16:34:51 -0400 (Wed, 16 Oct 2024) EllapsedTime: 34.8 seconds RetCode: 0 Status: OK