Package: DEXSeq Version: 1.50.0 Command: /Library/Frameworks/R.framework/Resources/bin/R CMD INSTALL DEXSeq StartedAt: 2024-10-16 16:28:10 -0400 (Wed, 16 Oct 2024) EndedAt: 2024-10-16 16:29:33 -0400 (Wed, 16 Oct 2024) EllapsedTime: 82.8 seconds RetCode: 0 Status: OK