Package: DEXSeq Version: 1.50.0 Command: rm -rf DEXSeq.buildbin-libdir && mkdir DEXSeq.buildbin-libdir && /Users/biocbuild/BBS/utils/build-universal.sh DEXSeq_1.50.0.tar.gz /Library/Frameworks/R.framework/Resources/bin/R DEXSeq.buildbin-libdir StartedAt: 2024-10-18 18:11:18 -0400 (Fri, 18 Oct 2024) EndedAt: 2024-10-18 18:12:12 -0400 (Fri, 18 Oct 2024) EllapsedTime: 53.4 seconds RetCode: 0 Status: OK PackageFile: DEXSeq_1.50.0.tgz PackageFileSize: 2.211 MiB