Package: DEWSeq Version: 1.18.0 Command: E:\biocbuild\bbs-3.19-bioc\R\bin\R.exe CMD INSTALL DEWSeq StartedAt: 2024-10-16 16:21:37 -0400 (Wed, 16 Oct 2024) EndedAt: 2024-10-16 16:22:11 -0400 (Wed, 16 Oct 2024) EllapsedTime: 34.0 seconds RetCode: 0 Status: OK