Package: DEWSeq Version: 1.18.0 Command: /home/biocbuild/bbs-3.19-bioc/R/bin/R CMD INSTALL DEWSeq StartedAt: 2024-10-16 16:05:50 -0400 (Wed, 16 Oct 2024) EndedAt: 2024-10-16 16:06:15 -0400 (Wed, 16 Oct 2024) EllapsedTime: 24.9 seconds RetCode: 0 Status: OK