Package: DEWSeq Version: 1.18.0 Command: /Library/Frameworks/R.framework/Resources/bin/R CMD INSTALL DEWSeq StartedAt: 2024-10-16 15:33:24 -0400 (Wed, 16 Oct 2024) EndedAt: 2024-10-16 15:34:21 -0400 (Wed, 16 Oct 2024) EllapsedTime: 56.6 seconds RetCode: 0 Status: OK