Package: DEWSeq Version: 1.18.0 Command: /home/biocbuild/R/R-beta-2024-04-15_r86425/bin/R CMD build --keep-empty-dirs --no-resave-data DEWSeq StartedAt: 2024-05-08 23:53:25 -0000 (Wed, 08 May 2024) EndedAt: 2024-05-08 23:54:18 -0000 (Wed, 08 May 2024) EllapsedTime: 53.1 seconds RetCode: 1 Status: ERROR PackageFile: None PackageFileSize: NA