Package: DESpace Version: 1.4.0 Command: rm -rf DESpace.buildbin-libdir && mkdir DESpace.buildbin-libdir && E:\biocbuild\bbs-3.19-bioc\R\bin\R.exe CMD INSTALL --build --library=DESpace.buildbin-libdir DESpace_1.4.0.tar.gz StartedAt: 2024-10-17 07:41:05 -0400 (Thu, 17 Oct 2024) EndedAt: 2024-10-17 07:41:38 -0400 (Thu, 17 Oct 2024) EllapsedTime: 32.1 seconds RetCode: 0 Status: OK PackageFile: DESpace_1.4.0.zip PackageFileSize: 1.962 MiB