Package: DESpace Version: 1.4.0 Command: /home/biocbuild/bbs-3.19-bioc/R/bin/R CMD build --keep-empty-dirs --no-resave-data DESpace StartedAt: 2024-10-16 18:11:49 -0400 (Wed, 16 Oct 2024) EndedAt: 2024-10-16 18:19:17 -0400 (Wed, 16 Oct 2024) EllapsedTime: 447.9 seconds RetCode: 0 Status: OK PackageFile: DESpace_1.4.0.tar.gz PackageFileSize: 3.54 MiB