Package: DESpace Version: 1.4.0 Command: /Library/Frameworks/R.framework/Resources/bin/R CMD build --keep-empty-dirs --no-resave-data DESpace StartedAt: 2024-10-16 18:40:26 -0400 (Wed, 16 Oct 2024) EndedAt: 2024-10-16 18:57:53 -0400 (Wed, 16 Oct 2024) EllapsedTime: 1047.5 seconds RetCode: 0 Status: OK PackageFile: DESpace_1.4.0.tar.gz PackageFileSize: 5.84 MiB