Package: DESpace Version: 1.4.0 Command: /Library/Frameworks/R.framework/Resources/bin/R CMD build --keep-empty-dirs --no-resave-data DESpace StartedAt: 2024-10-16 23:10:40 -0400 (Wed, 16 Oct 2024) EndedAt: 2024-10-16 23:23:01 -0400 (Wed, 16 Oct 2024) EllapsedTime: 740.7 seconds RetCode: 0 Status: OK PackageFile: DESpace_1.4.0.tar.gz PackageFileSize: 5.841 MiB