Package: DESpace Version: 1.4.0 Command: rm -rf DESpace.buildbin-libdir && mkdir DESpace.buildbin-libdir && /Users/biocbuild/BBS/utils/build-universal.sh DESpace_1.4.0.tar.gz /Library/Frameworks/R.framework/Resources/bin/R DESpace.buildbin-libdir StartedAt: 2024-10-18 18:10:32 -0400 (Fri, 18 Oct 2024) EndedAt: 2024-10-18 18:11:14 -0400 (Fri, 18 Oct 2024) EllapsedTime: 41.6 seconds RetCode: 0 Status: OK PackageFile: DESpace_1.4.0.tgz PackageFileSize: 5.893 MiB