Package: DESeq2 Version: 1.44.0 Command: E:\biocbuild\bbs-3.19-bioc\R\bin\R.exe CMD INSTALL DESeq2 StartedAt: 2024-10-16 16:20:12 -0400 (Wed, 16 Oct 2024) EndedAt: 2024-10-16 16:21:21 -0400 (Wed, 16 Oct 2024) EllapsedTime: 68.3 seconds RetCode: 0 Status: OK