Package: DESeq2 Version: 1.44.0 Command: chmod a+r DESeq2 -R && E:\biocbuild\bbs-3.19-bioc\R\bin\R.exe CMD build --keep-empty-dirs --no-resave-data DESeq2 StartedAt: 2024-10-16 18:40:18 -0400 (Wed, 16 Oct 2024) EndedAt: 2024-10-16 18:43:12 -0400 (Wed, 16 Oct 2024) EllapsedTime: 173.8 seconds RetCode: 0 Status: OK PackageFile: DESeq2_1.44.0.tar.gz PackageFileSize: 1.373 MiB